BEGIN:VCALENDAR
VERSION:2.0
PRODID:-//TSIKRIKONIS WINERY - ECPv6.15.12.2//NONSGML v1.0//EN
CALSCALE:GREGORIAN
METHOD:PUBLISH
X-WR-CALNAME:TSIKRIKONIS WINERY
X-ORIGINAL-URL:https://tsikrikonis-winery.gr/en/
X-WR-CALDESC:Events for TSIKRIKONIS WINERY
REFRESH-INTERVAL;VALUE=DURATION:PT1H
X-Robots-Tag:noindex
X-PUBLISHED-TTL:PT1H
BEGIN:VTIMEZONE
TZID:Europe/Moscow
BEGIN:STANDARD
TZOFFSETFROM:+0300
TZOFFSETTO:+0300
TZNAME:MSK
DTSTART:20190101T000000
END:STANDARD
END:VTIMEZONE
BEGIN:VTIMEZONE
TZID:UTC
BEGIN:STANDARD
TZOFFSETFROM:+0000
TZOFFSETTO:+0000
TZNAME:UTC
DTSTART:20170101T000000
END:STANDARD
END:VTIMEZONE
BEGIN:VEVENT
DTSTART;TZID=Europe/Moscow:20200328T110000
DTEND;TZID=Europe/Moscow:20200328T190000
DTSTAMP:20260422T132113
CREATED:20200328T113516Z
LAST-MODIFIED:20250731T201632Z
UID:1945-1585393200-1585422000@tsikrikonis-winery.gr
SUMMARY:Participation in the SMOE exhibition "Small Winemakers 2020"
DESCRIPTION:
URL:https://tsikrikonis-winery.gr/en/newww/participation-in-the-smoe-exhibition-small-winemakers-2020/
END:VEVENT
BEGIN:VEVENT
DTSTART;VALUE=DATE:20180716
DTEND;VALUE=DATE:20180717
DTSTAMP:20260422T132113
CREATED:20160603T052537Z
LAST-MODIFIED:20180822T091807Z
UID:374-1531699200-1531785599@tsikrikonis-winery.gr
SUMMARY:Cavo Vrasida Wine Tasting
DESCRIPTION:Μύρισε καλοκαίρι!!!\nΠάμε παραλία!!!\nCavo Vrasida Nea Peramo!!!
URL:https://tsikrikonis-winery.gr/en/newww/cavo-vrasida-wine-tasting/
LOCATION:NY\, Ηνωμένες Πολιτείες
CATEGORIES:Presentations
ATTACH;FMTTYPE=image/jpeg:https://tsikrikonis-winery.gr/wp-content/uploads/2016/06/37233554_2014016678629693_3679723607488987136_n.jpg
END:VEVENT
BEGIN:VEVENT
DTSTART;VALUE=DATE:20180613
DTEND;VALUE=DATE:20180614
DTSTAMP:20260422T132113
CREATED:20160603T103304Z
LAST-MODIFIED:20180822T091759Z
UID:381-1528848000-1528934399@tsikrikonis-winery.gr
SUMMARY:The Prince Summer Wine Festival
DESCRIPTION:
URL:https://tsikrikonis-winery.gr/en/newww/the-prince-summer-wine-festiva/
LOCATION:NY\, Ηνωμένες Πολιτείες
CATEGORIES:Presentations
ATTACH;FMTTYPE=image/jpeg:https://tsikrikonis-winery.gr/wp-content/uploads/2016/06/35160587_1692940684121893_4382151459911761920_o.jpg
ORGANIZER;CN="Laon Wine House":MAILTO:clifton.carter20@laon.com
END:VEVENT
END:VCALENDAR